BEGIN:VCALENDAR
VERSION:2.0
PRODID:-//Cedar Falls Public Library - ECPv6.15.20//NONSGML v1.0//EN
CALSCALE:GREGORIAN
METHOD:PUBLISH
X-WR-CALNAME:Cedar Falls Public Library
X-ORIGINAL-URL:https://cedarfallslibrary.org
X-WR-CALDESC:Events for Cedar Falls Public Library
REFRESH-INTERVAL;VALUE=DURATION:PT1H
X-Robots-Tag:noindex
X-PUBLISHED-TTL:PT1H
BEGIN:VTIMEZONE
TZID:America/Chicago
BEGIN:DAYLIGHT
TZOFFSETFROM:-0600
TZOFFSETTO:-0500
TZNAME:CDT
DTSTART:20250309T080000
END:DAYLIGHT
BEGIN:STANDARD
TZOFFSETFROM:-0500
TZOFFSETTO:-0600
TZNAME:CST
DTSTART:20251102T070000
END:STANDARD
BEGIN:DAYLIGHT
TZOFFSETFROM:-0600
TZOFFSETTO:-0500
TZNAME:CDT
DTSTART:20260308T080000
END:DAYLIGHT
BEGIN:STANDARD
TZOFFSETFROM:-0500
TZOFFSETTO:-0600
TZNAME:CST
DTSTART:20261101T070000
END:STANDARD
BEGIN:DAYLIGHT
TZOFFSETFROM:-0600
TZOFFSETTO:-0500
TZNAME:CDT
DTSTART:20270314T080000
END:DAYLIGHT
BEGIN:STANDARD
TZOFFSETFROM:-0500
TZOFFSETTO:-0600
TZNAME:CST
DTSTART:20271107T070000
END:STANDARD
END:VTIMEZONE
BEGIN:VEVENT
DTSTART;TZID=America/Chicago:20260727T103000
DTEND;TZID=America/Chicago:20260727T111500
DTSTAMP:20260421T142353
CREATED:20260123T170322Z
LAST-MODIFIED:20260421T003210Z
UID:10003112-1785148200-1785150900@cedarfallslibrary.org
SUMMARY:Baby Storytime
DESCRIPTION:Youth Department.    \nJoin us for baby storytime as we sing\, read\, bounce\, and rhyme! It's a great time to cuddle your baby close and have fun while introducing them to skills that will help them become future readers. After storytime\, join us for a free play session. \nFor babies 0-23 months Youth.   \nSponsored by the Friends of the Cedar Falls Public Library.
URL:https://cedarfallslibrary.org/event/baby-storytime-25/
CATEGORIES:Youth Department
END:VEVENT
BEGIN:VEVENT
DTSTART;TZID=America/Chicago:20260728T103000
DTEND;TZID=America/Chicago:20260728T111500
DTSTAMP:20260421T142353
CREATED:20260128T201810Z
LAST-MODIFIED:20260421T003210Z
UID:10003146-1785234600-1785237300@cedarfallslibrary.org
SUMMARY:Preschool Storytime
DESCRIPTION:Youth Department.   \nJoin us for Preschool Storytime as we read\, sing\, dance\, and play. Parents are encouraged to embrace their inner child and dance and sing along with their child/ren.  \nFor preschoolers\, ages 3-5.Youth\nFunded by the Friends of the Cedar Falls Public Library.
URL:https://cedarfallslibrary.org/event/preschool-storytime-26/
CATEGORIES:Youth Department
END:VEVENT
BEGIN:VEVENT
DTSTART;TZID=America/Chicago:20260729T103000
DTEND;TZID=America/Chicago:20260729T111500
DTSTAMP:20260421T142353
CREATED:20260123T170322Z
LAST-MODIFIED:20260421T003212Z
UID:10003113-1785321000-1785323700@cedarfallslibrary.org
SUMMARY:Toddler Storytime
DESCRIPTION:Youth Department.  \nJoin us for Toddler Storytime as we read\, sing\, dance\, rhyme\, and get silly. Storytime is a great way to introduce your toddler to the joy of reading and to the preliteracy skills that will help them become future readers.  \nFor toddlers\, ages 2-3. Youth. \n Funded by the Friends of the Cedar Falls Public Library.
URL:https://cedarfallslibrary.org/event/toddler-storytime-26/
CATEGORIES:Youth Department
END:VEVENT
BEGIN:VEVENT
DTSTART;TZID=America/Chicago:20260731T103000
DTEND;TZID=America/Chicago:20260731T111500
DTSTAMP:20260421T142353
CREATED:20260123T170323Z
LAST-MODIFIED:20260421T003212Z
UID:10003114-1785493800-1785496500@cedarfallslibrary.org
SUMMARY:Music & Movement Storytime with Music Together
DESCRIPTION:Youth Department.\nGeared toward toddlers and preschoolers. Get ready to dance and be silly! We'll read books that encourage movement\, sing songs\, and shake our sillies out!\nSponsored by the Friends of the Cedar Falls Public Library.
URL:https://cedarfallslibrary.org/event/music-movement-storytime-159/
CATEGORIES:Youth Department
END:VEVENT
BEGIN:VEVENT
DTSTART;TZID=America/Chicago:20260801T000000
DTEND;TZID=America/Chicago:20260801T235959
DTSTAMP:20260421T142353
CREATED:20251119T211814Z
LAST-MODIFIED:20260421T003212Z
UID:10002981-1785542400-1785628799@cedarfallslibrary.org
SUMMARY:Summer Reading Ends
DESCRIPTION:
URL:https://cedarfallslibrary.org/event/summer-reading-ends-2/
CATEGORIES:Adult,Teens,Youth Department
END:VEVENT
BEGIN:VEVENT
DTSTART;TZID=America/Chicago:20260801T103000
DTEND;TZID=America/Chicago:20260801T111500
DTSTAMP:20260421T142353
CREATED:20260123T180255Z
LAST-MODIFIED:20260421T003212Z
UID:10003124-1785580200-1785582900@cedarfallslibrary.org
SUMMARY:Family Storytime
DESCRIPTION:Youth Department  \nEnjoy storytime with the whole family! Get ready to read\, dance\, and sing! \nYouth\, Ages 0-5 \n Funded by the Friends of the Cedar Falls Public Library.
URL:https://cedarfallslibrary.org/event/family-storytime-26/
CATEGORIES:Youth Department
END:VEVENT
BEGIN:VEVENT
DTSTART;TZID=America/Chicago:20260810T000000
DTEND;TZID=America/Chicago:20260814T235959
DTSTAMP:20260421T142353
CREATED:20260410T203151Z
LAST-MODIFIED:20260421T160444Z
UID:10003304-1786320000-1786751999@cedarfallslibrary.org
SUMMARY:Peter Rabbit Escape Room
DESCRIPTION:Can you get through Farmer McGregor’s puzzles and “rescue” his prize golden carrots?\nRegister for a time slot by calling the youth desk at 319-859-3282. Registration opens July 25.
URL:https://cedarfallslibrary.org/event/peter-rabbit-escape-room/
CATEGORIES:Adult,Teens,Youth Department
END:VEVENT
BEGIN:VEVENT
DTSTART;TZID=America/Chicago:20260817T183000
DTEND;TZID=America/Chicago:20260817T200000
DTSTAMP:20260421T142353
CREATED:20260211T013406Z
LAST-MODIFIED:20260421T160437Z
UID:10003249-1786991400-1786996800@cedarfallslibrary.org
SUMMARY:Chess Club
DESCRIPTION:Would you care for a game of chess?  Join fellow players at the Cedar Falls Public Library's meeting room (2nd floor) to meet your next opponent.  The club meets regularly on the 3rd Monday of each month. \nThis gathering is open to all ages\, but a firm grasp of chess is expected from all players as there is no formal instruction. No registration is required. \nThe library's Safe Child Policy applies to all programs - children under 11 will need a responsible caregiver present and in the room with them at all times.
URL:https://cedarfallslibrary.org/event/chess-club-41/
CATEGORIES:Adult,Teens,Youth Department
END:VEVENT
BEGIN:VEVENT
DTSTART;TZID=America/Chicago:20260910T161500
DTEND;TZID=America/Chicago:20260910T171500
DTSTAMP:20260421T142353
CREATED:20260327T100302Z
LAST-MODIFIED:20260421T160406Z
UID:10003291-1789056900-1789060500@cedarfallslibrary.org
SUMMARY:Travel Thursdays: Kenya & Tanzania!
DESCRIPTION:Youth\, Ages 5-9\, Meeting Room\, 2nd Floor \nMeets on the second Thursday of every month at 4:15 PM in the Meeting Room at the Cedar Falls Public Library. \n \nPack your bags and grab your passport - adventure awaits! Each month\, we’ll “travel” to a new place and collect passport stamps. \nThe next stop on our Travel Thursday adventure: Kenya & Tanzania! Discover the wonders of the Serengeti\, "meet" amazing African wildlife\, and experience the beauty of the African savanna through virtual trips\, exploration stations\, and hands-on crafts! \n \nPerfect for explorers ages 5-9. Registration Required. Youth
URL:https://cedarfallslibrary.org/event/travel-thursdays-kenya-tanzania/
CATEGORIES:Youth Department
END:VEVENT
BEGIN:VEVENT
DTSTART;TZID=America/Chicago:20260921T183000
DTEND;TZID=America/Chicago:20260921T200000
DTSTAMP:20260421T142353
CREATED:20260211T013410Z
LAST-MODIFIED:20260421T160359Z
UID:10003250-1790015400-1790020800@cedarfallslibrary.org
SUMMARY:Chess Club
DESCRIPTION:Would you care for a game of chess?  Join fellow players at the Cedar Falls Public Library's meeting room (2nd floor) to meet your next opponent.  The club meets regularly on the 3rd Monday of each month. \nThis gathering is open to all ages\, but a firm grasp of chess is expected from all players as there is no formal instruction. No registration is required. \nThe library's Safe Child Policy applies to all programs - children under 11 will need a responsible caregiver present and in the room with them at all times.
URL:https://cedarfallslibrary.org/event/chess-club-42/
CATEGORIES:Adult,Teens,Youth Department
END:VEVENT
BEGIN:VEVENT
DTSTART;TZID=America/Chicago:20261008T161500
DTEND;TZID=America/Chicago:20261008T171500
DTSTAMP:20260421T142353
CREATED:20260327T100305Z
LAST-MODIFIED:20260421T160346Z
UID:10003293-1791476100-1791479700@cedarfallslibrary.org
SUMMARY:Travel Thursdays: Mexico!
DESCRIPTION:Youth\, Ages 5-9\, Meeting Room\, 2nd Floor \nMeets on the second Thursday of every month at 4:15 PM in the Meeting Room at the Cedar Falls Public Library. \n \nPack your bags and grab your passport - adventure awaits! Each month\, we’ll “travel” to a new place and collect passport stamps. \nThe next stop on our Travel Thursday adventure: Mexico! Discover the wonders of Mexico's ancient ruins\, rich history\, and vibrant culture through virtual trips\, exploration stations\, and hands-on crafts! \n \nPerfect for explorers ages 5-9. Registration Required. Youth
URL:https://cedarfallslibrary.org/event/travel-thursdays-mexico/
CATEGORIES:Youth Department
END:VEVENT
BEGIN:VEVENT
DTSTART;TZID=America/Chicago:20261019T183000
DTEND;TZID=America/Chicago:20261019T200000
DTSTAMP:20260421T142353
CREATED:20260211T013412Z
LAST-MODIFIED:20260421T160341Z
UID:10003251-1792434600-1792440000@cedarfallslibrary.org
SUMMARY:Chess Club
DESCRIPTION:Would you care for a game of chess?  Join fellow players at the Cedar Falls Public Library's meeting room (2nd floor) to meet your next opponent.  The club meets regularly on the 3rd Monday of each month. \nThis gathering is open to all ages\, but a firm grasp of chess is expected from all players as there is no formal instruction. No registration is required. \nThe library's Safe Child Policy applies to all programs - children under 11 will need a responsible caregiver present and in the room with them at all times.
URL:https://cedarfallslibrary.org/event/chess-club-43/
CATEGORIES:Adult,Teens,Youth Department
END:VEVENT
BEGIN:VEVENT
DTSTART;TZID=America/Chicago:20261027T161500
DTEND;TZID=America/Chicago:20261027T171500
DTSTAMP:20260421T142353
CREATED:20260327T100306Z
LAST-MODIFIED:20260421T160334Z
UID:10003294-1793117700-1793121300@cedarfallslibrary.org
SUMMARY:Creepy Concoctions!
DESCRIPTION:Youth\, Ages 8-12\, CoLab\, 2nd Floor \nGet ready to mix\, stir\, and create spooky science! In this hands-on program\, kids will become scientists and make their own oozing Creature Slime\, Dancing Potion Beads that rise and fall like magical bubbles\, and create a Monster Foam eruption that’s sure to amaze. Messy\, magical\, and full of surprises—these creepy concoctions are perfect for kids who love a little spooky science! \nPerfect for kids ages 8-12. Registration Required. Youth.
URL:https://cedarfallslibrary.org/event/creepy-concoctions/
CATEGORIES:Youth Department
END:VEVENT
BEGIN:VEVENT
DTSTART;TZID=America/Chicago:20261112T161500
DTEND;TZID=America/Chicago:20261112T171500
DTSTAMP:20260421T142353
CREATED:20260327T100308Z
LAST-MODIFIED:20260421T160258Z
UID:10003296-1794500100-1794503700@cedarfallslibrary.org
SUMMARY:Travel Thursdays: Turkey!
DESCRIPTION:Youth\, ages 5-9\, Meeting Room\, 2nd Floor \nMeets on the second Thursday of every month at 4:15 PM in the Meeting Room at the Cedar Falls Public Library. \n \nPack your bags and grab your passport - adventure awaits! Each month\, we’ll “travel” to a new place and collect passport stamps. \nThe next stop on our Travel Thursday adventure: Turkey! Discover Turkey's bustling bazaars\, beautiful artistry\, and rich history where continents meet through virtual trips\, hands-on crafts\, and engaging exploration stations! \n \nPerfect for explorers aged 5-9. Registration Required. Youth.
URL:https://cedarfallslibrary.org/event/travel-thursdays-turkey/
CATEGORIES:Youth Department
END:VEVENT
BEGIN:VEVENT
DTSTART;TZID=America/Chicago:20261116T183000
DTEND;TZID=America/Chicago:20261116T200000
DTSTAMP:20260421T142353
CREATED:20260316T213316Z
LAST-MODIFIED:20260421T160247Z
UID:10003283-1794853800-1794859200@cedarfallslibrary.org
SUMMARY:Chess Club
DESCRIPTION:Would you care for a game of chess?  Join fellow players at the Cedar Falls Public Library's meeting room (2nd floor) to meet your next opponent.  The club meets regularly on the 3rd Monday of each month. \nThis gathering is open to all ages\, but a firm grasp of chess is expected from all players as there is no formal instruction. No registration is required. \nThe library's Safe Child Policy applies to all programs - children under 11 will need a responsible caregiver present and in the room with them at all times.
URL:https://cedarfallslibrary.org/event/chess-club-44/
CATEGORIES:Adult,Teens,Youth Department
END:VEVENT
BEGIN:VEVENT
DTSTART;TZID=America/Chicago:20261210T161500
DTEND;TZID=America/Chicago:20261210T171500
DTSTAMP:20260421T142353
CREATED:20260327T201807Z
LAST-MODIFIED:20260421T160238Z
UID:10003297-1796919300-1796922900@cedarfallslibrary.org
SUMMARY:Travel Thursdays: Sweden!
DESCRIPTION:Youth\, ages 5-9\, Meeting Room\, 2nd Floor \nMeets on the second Thursday of every month at 4:15 PM in the Meeting Room at the Cedar Falls Public Library. \n \nPack your bags and grab your passport - adventure awaits! Each month\, we’ll “travel” to a new place and collect passport stamps. \nThe next stop on our Travel Thursday adventure: Sweden! Discover Sweden's cozy traditions\, forest landscapes\, and magical folklore through virtual trips\, hands-on crafts\, and engaging exploration stations! \n \nPerfect for explorers aged 5-9. Registration Required. Youth.
URL:https://cedarfallslibrary.org/event/travel-thursdays-sweden/
CATEGORIES:Youth Department
END:VEVENT
BEGIN:VEVENT
DTSTART;TZID=America/Chicago:20261221T183000
DTEND;TZID=America/Chicago:20261221T200000
DTSTAMP:20260421T142353
CREATED:20260316T213319Z
LAST-MODIFIED:20260421T160229Z
UID:10003284-1797877800-1797883200@cedarfallslibrary.org
SUMMARY:Chess Club
DESCRIPTION:Would you care for a game of chess?  Join fellow players at the Cedar Falls Public Library's meeting room (2nd floor) to meet your next opponent.  The club meets regularly on the 3rd Monday of each month. \nThis gathering is open to all ages\, but a firm grasp of chess is expected from all players as there is no formal instruction. No registration is required. \nThe library's Safe Child Policy applies to all programs - children under 11 will need a responsible caregiver present and in the room with them at all times.
URL:https://cedarfallslibrary.org/event/chess-club-45/
CATEGORIES:Adult,Teens,Youth Department
END:VEVENT
END:VCALENDAR