BEGIN:VCALENDAR
VERSION:2.0
PRODID:-//Cedar Falls Public Library - ECPv6.15.20//NONSGML v1.0//EN
CALSCALE:GREGORIAN
METHOD:PUBLISH
X-ORIGINAL-URL:https://cedarfallslibrary.org
X-WR-CALDESC:Events for Cedar Falls Public Library
REFRESH-INTERVAL;VALUE=DURATION:PT1H
X-Robots-Tag:noindex
X-PUBLISHED-TTL:PT1H
BEGIN:VTIMEZONE
TZID:America/Chicago
BEGIN:DAYLIGHT
TZOFFSETFROM:-0600
TZOFFSETTO:-0500
TZNAME:CDT
DTSTART:20250309T080000
END:DAYLIGHT
BEGIN:STANDARD
TZOFFSETFROM:-0500
TZOFFSETTO:-0600
TZNAME:CST
DTSTART:20251102T070000
END:STANDARD
BEGIN:DAYLIGHT
TZOFFSETFROM:-0600
TZOFFSETTO:-0500
TZNAME:CDT
DTSTART:20260308T080000
END:DAYLIGHT
BEGIN:STANDARD
TZOFFSETFROM:-0500
TZOFFSETTO:-0600
TZNAME:CST
DTSTART:20261101T070000
END:STANDARD
BEGIN:DAYLIGHT
TZOFFSETFROM:-0600
TZOFFSETTO:-0500
TZNAME:CDT
DTSTART:20270314T080000
END:DAYLIGHT
BEGIN:STANDARD
TZOFFSETFROM:-0500
TZOFFSETTO:-0600
TZNAME:CST
DTSTART:20271107T070000
END:STANDARD
END:VTIMEZONE
BEGIN:VEVENT
DTSTART;TZID=America/Chicago:20260709T161500
DTEND;TZID=America/Chicago:20260709T171500
DTSTAMP:20260421T055112
CREATED:20260125T163305Z
LAST-MODIFIED:20260421T003206Z
UID:10003130-1783613700-1783617300@cedarfallslibrary.org
SUMMARY:Travel Thursdays: Sweet Summer Edition!
DESCRIPTION:Youth\, ages 5-9\, Meeting Room\, 2nd Floor \nPack your bags and bring your sweet tooth - we're traveling the world one dessert at a time! In this special summer edition of Travel Thursday\, young explorers will "visit" different countries by making and exploring desserts from around the world and discovering fun facts at each station. Kids will mix\, assemble\, and explore global treats in this hands-on\, sweets-filled adventure! \nPerfect for explorers aged 5-9. Registration Required. Youth.
URL:https://cedarfallslibrary.org/event/travel-thursdays-sweet-summer-edition/
CATEGORIES:Youth Department
END:VEVENT
END:VCALENDAR