BEGIN:VCALENDAR
VERSION:2.0
PRODID:-//Cedar Falls Public Library - ECPv6.15.20//NONSGML v1.0//EN
CALSCALE:GREGORIAN
METHOD:PUBLISH
X-WR-CALNAME:Cedar Falls Public Library
X-ORIGINAL-URL:https://cedarfallslibrary.org
X-WR-CALDESC:Events for Cedar Falls Public Library
REFRESH-INTERVAL;VALUE=DURATION:PT1H
X-Robots-Tag:noindex
X-PUBLISHED-TTL:PT1H
BEGIN:VTIMEZONE
TZID:America/Chicago
BEGIN:DAYLIGHT
TZOFFSETFROM:-0600
TZOFFSETTO:-0500
TZNAME:CDT
DTSTART:20250309T080000
END:DAYLIGHT
BEGIN:STANDARD
TZOFFSETFROM:-0500
TZOFFSETTO:-0600
TZNAME:CST
DTSTART:20251102T070000
END:STANDARD
BEGIN:DAYLIGHT
TZOFFSETFROM:-0600
TZOFFSETTO:-0500
TZNAME:CDT
DTSTART:20260308T080000
END:DAYLIGHT
BEGIN:STANDARD
TZOFFSETFROM:-0500
TZOFFSETTO:-0600
TZNAME:CST
DTSTART:20261101T070000
END:STANDARD
BEGIN:DAYLIGHT
TZOFFSETFROM:-0600
TZOFFSETTO:-0500
TZNAME:CDT
DTSTART:20270314T080000
END:DAYLIGHT
BEGIN:STANDARD
TZOFFSETFROM:-0500
TZOFFSETTO:-0600
TZNAME:CST
DTSTART:20271107T070000
END:STANDARD
END:VTIMEZONE
BEGIN:VEVENT
DTSTART;TZID=America/Chicago:20260702T103000
DTEND;TZID=America/Chicago:20260702T113000
DTSTAMP:20260419T130955
CREATED:20260123T221750Z
LAST-MODIFIED:20260419T180138Z
UID:10003126-1782988200-1782991800@cedarfallslibrary.org
SUMMARY:Sensory Stations for Little Learners
DESCRIPTION:Youth Department.    \nJoin us for some hands-on learning. Children and their caregivers will navigate sensory stations and discover new ways to learn and play.   \nAges 0-5\nYouth.
URL:https://cedarfallslibrary.org/event/sensory-stations-for-little-learners-62/
CATEGORIES:Youth Department
END:VEVENT
BEGIN:VEVENT
DTSTART;TZID=America/Chicago:20260702T113000
DTEND;TZID=America/Chicago:20260702T120000
DTSTAMP:20260419T130955
CREATED:20260123T221751Z
LAST-MODIFIED:20260419T180138Z
UID:10003127-1782991800-1782993600@cedarfallslibrary.org
SUMMARY:Sunshine Storytime at The Falls Aquatic Center
DESCRIPTION:The Falls Aquatic CenterGeared toward toddlers and preschoolers. We're taking Movement and Movement Storytime to the Falls Aquatic Center! Get ready to dance\, splash\, and be silly! We'll read books that encourage movement\, sing songs\, and shake our sillies out!If it rains\, we'll have storytime at the library. Registration Required.  \nSponsored by the Friends of the Cedar Falls Public Library.
URL:https://cedarfallslibrary.org/event/sunshine-storytime-at-the-falls-aquatic-center-5/
CATEGORIES:Youth Department
END:VEVENT
END:VCALENDAR