BEGIN:VCALENDAR
VERSION:2.0
PRODID:-//Cedar Falls Public Library - ECPv6.15.20//NONSGML v1.0//EN
CALSCALE:GREGORIAN
METHOD:PUBLISH
X-WR-CALNAME:Cedar Falls Public Library
X-ORIGINAL-URL:https://cedarfallslibrary.org
X-WR-CALDESC:Events for Cedar Falls Public Library
REFRESH-INTERVAL;VALUE=DURATION:PT1H
X-Robots-Tag:noindex
X-PUBLISHED-TTL:PT1H
BEGIN:VTIMEZONE
TZID:America/Chicago
BEGIN:DAYLIGHT
TZOFFSETFROM:-0600
TZOFFSETTO:-0500
TZNAME:CDT
DTSTART:20250309T080000
END:DAYLIGHT
BEGIN:STANDARD
TZOFFSETFROM:-0500
TZOFFSETTO:-0600
TZNAME:CST
DTSTART:20251102T070000
END:STANDARD
BEGIN:DAYLIGHT
TZOFFSETFROM:-0600
TZOFFSETTO:-0500
TZNAME:CDT
DTSTART:20260308T080000
END:DAYLIGHT
BEGIN:STANDARD
TZOFFSETFROM:-0500
TZOFFSETTO:-0600
TZNAME:CST
DTSTART:20261101T070000
END:STANDARD
BEGIN:DAYLIGHT
TZOFFSETFROM:-0600
TZOFFSETTO:-0500
TZNAME:CDT
DTSTART:20270314T080000
END:DAYLIGHT
BEGIN:STANDARD
TZOFFSETFROM:-0500
TZOFFSETTO:-0600
TZNAME:CST
DTSTART:20271107T070000
END:STANDARD
END:VTIMEZONE
BEGIN:VEVENT
DTSTART;TZID=America/Chicago:20260701T103000
DTEND;TZID=America/Chicago:20260701T111500
DTSTAMP:20260421T073442
CREATED:20260123T170314Z
LAST-MODIFIED:20260421T003205Z
UID:10003101-1782901800-1782904500@cedarfallslibrary.org
SUMMARY:Toddler Storytime
DESCRIPTION:Youth Department.  \nJoin us for Toddler Storytime as we read\, sing\, dance\, rhyme\, and get silly. Storytime is a great way to introduce your toddler to the joy of reading and to the preliteracy skills that will help them become future readers.  \nFor toddlers\, ages 2-3. Youth. \n Funded by the Friends of the Cedar Falls Public Library.
URL:https://cedarfallslibrary.org/event/toddler-storytime-22/
CATEGORIES:Youth Department
END:VEVENT
END:VCALENDAR