BEGIN:VCALENDAR
VERSION:2.0
PRODID:-//Cedar Falls Public Library - ECPv6.15.20//NONSGML v1.0//EN
CALSCALE:GREGORIAN
METHOD:PUBLISH
X-WR-CALNAME:Cedar Falls Public Library
X-ORIGINAL-URL:https://cedarfallslibrary.org
X-WR-CALDESC:Events for Cedar Falls Public Library
REFRESH-INTERVAL;VALUE=DURATION:PT1H
X-Robots-Tag:noindex
X-PUBLISHED-TTL:PT1H
BEGIN:VTIMEZONE
TZID:America/Chicago
BEGIN:DAYLIGHT
TZOFFSETFROM:-0600
TZOFFSETTO:-0500
TZNAME:CDT
DTSTART:20250309T080000
END:DAYLIGHT
BEGIN:STANDARD
TZOFFSETFROM:-0500
TZOFFSETTO:-0600
TZNAME:CST
DTSTART:20251102T070000
END:STANDARD
BEGIN:DAYLIGHT
TZOFFSETFROM:-0600
TZOFFSETTO:-0500
TZNAME:CDT
DTSTART:20260308T080000
END:DAYLIGHT
BEGIN:STANDARD
TZOFFSETFROM:-0500
TZOFFSETTO:-0600
TZNAME:CST
DTSTART:20261101T070000
END:STANDARD
BEGIN:DAYLIGHT
TZOFFSETFROM:-0600
TZOFFSETTO:-0500
TZNAME:CDT
DTSTART:20270314T080000
END:DAYLIGHT
BEGIN:STANDARD
TZOFFSETFROM:-0500
TZOFFSETTO:-0600
TZNAME:CST
DTSTART:20271107T070000
END:STANDARD
END:VTIMEZONE
BEGIN:VEVENT
DTSTART;TZID=America/Chicago:20260625T103000
DTEND;TZID=America/Chicago:20260625T120000
DTSTAMP:20260419T131842
CREATED:20260126T213331Z
LAST-MODIFIED:20260419T181657Z
UID:10003135-1782383400-1782388800@cedarfallslibrary.org
SUMMARY:Doll-a-palooza!
DESCRIPTION:Youth Department\, in the Storytime Corner \nDid you know the library has American Girl® Dolls available for check out? Drop in and explore our Historical Doll Kits and make new friends while you play! We'll provide some dolls and clothing\, but we recommend bringing in some of your own for extra fun! Geared toward kids ages 7+\, younger children are welcome as long as they can play gently and share with others. \nYouth. Ages 7+\, no registration required\,  Funded by the Friends of the Library.
URL:https://cedarfallslibrary.org/event/dolly-me-playdate/
CATEGORIES:Youth Department
END:VEVENT
BEGIN:VEVENT
DTSTART;TZID=America/Chicago:20260625T140000
DTEND;TZID=America/Chicago:20260625T150000
DTSTAMP:20260419T131842
CREATED:20260125T163300Z
LAST-MODIFIED:20260419T181657Z
UID:10003129-1782396000-1782399600@cedarfallslibrary.org
SUMMARY:Suncatcher Studio
DESCRIPTION:Youth\, ages 6-9\, Co-Lab \nCatch the Sun!Get creative and let your art shine! In this fun\, hands-on arts program\, kids will rotate through four stations to create colorful suncatchers. Each station offers a different way to explore color\, light\, and creativity — and every participant will leave with bright artwork ready to shine in the sun.   \nPerfect for creators ages 6-9. Registration Required. Youth.
URL:https://cedarfallslibrary.org/event/suncatcher-studio/
CATEGORIES:Youth Department
END:VEVENT
END:VCALENDAR