BEGIN:VCALENDAR
VERSION:2.0
PRODID:-//Cedar Falls Public Library - ECPv6.15.20//NONSGML v1.0//EN
CALSCALE:GREGORIAN
METHOD:PUBLISH
X-ORIGINAL-URL:https://cedarfallslibrary.org
X-WR-CALDESC:Events for Cedar Falls Public Library
REFRESH-INTERVAL;VALUE=DURATION:PT1H
X-Robots-Tag:noindex
X-PUBLISHED-TTL:PT1H
BEGIN:VTIMEZONE
TZID:America/Chicago
BEGIN:DAYLIGHT
TZOFFSETFROM:-0600
TZOFFSETTO:-0500
TZNAME:CDT
DTSTART:20250309T080000
END:DAYLIGHT
BEGIN:STANDARD
TZOFFSETFROM:-0500
TZOFFSETTO:-0600
TZNAME:CST
DTSTART:20251102T070000
END:STANDARD
BEGIN:DAYLIGHT
TZOFFSETFROM:-0600
TZOFFSETTO:-0500
TZNAME:CDT
DTSTART:20260308T080000
END:DAYLIGHT
BEGIN:STANDARD
TZOFFSETFROM:-0500
TZOFFSETTO:-0600
TZNAME:CST
DTSTART:20261101T070000
END:STANDARD
BEGIN:DAYLIGHT
TZOFFSETFROM:-0600
TZOFFSETTO:-0500
TZNAME:CDT
DTSTART:20270314T080000
END:DAYLIGHT
BEGIN:STANDARD
TZOFFSETFROM:-0500
TZOFFSETTO:-0600
TZNAME:CST
DTSTART:20271107T070000
END:STANDARD
END:VTIMEZONE
BEGIN:VEVENT
DTSTART;TZID=America/Chicago:20260622T103000
DTEND;TZID=America/Chicago:20260622T111500
DTSTAMP:20260425T073509
CREATED:20260123T170313Z
LAST-MODIFIED:20260421T003202Z
UID:10003097-1782124200-1782126900@cedarfallslibrary.org
SUMMARY:Baby Storytime
DESCRIPTION:Youth Department.    \nJoin us for baby storytime as we sing\, read\, bounce\, and rhyme! It's a great time to cuddle your baby close and have fun while introducing them to skills that will help them become future readers. After storytime\, join us for a free play session. \nFor babies 0-23 months Youth.   \nSponsored by the Friends of the Cedar Falls Public Library.
URL:https://cedarfallslibrary.org/event/baby-storytime-20/
CATEGORIES:Youth Department
END:VEVENT
BEGIN:VEVENT
DTSTART;TZID=America/Chicago:20260622T140000
DTEND;TZID=America/Chicago:20260622T160000
DTSTAMP:20260425T073509
CREATED:20260128T224745Z
LAST-MODIFIED:20260421T003202Z
UID:10003148-1782136800-1782144000@cedarfallslibrary.org
SUMMARY:Popcorn & Pictures: Family Matinee
DESCRIPTION:Youth\, all ages\, Storytime Corner. \nJoin us for monthly movie screenings that are fun for the whole family! We'll provide the popcorn\, but feel free to bring your own snacks\, refreshments\, and maybe even a cozy blanket or two.  \nJune's movie pick: "The SpongeBob Movie: Search for SquarePants" (2025)Showtime: 2:00 pm.  Runtime: about 1 hour and 20 minutesRating: PGAudience: Children and their grown-upsLocation: Storytime CornerSponsored by the Friends of the Cedar Falls Public Library.
URL:https://cedarfallslibrary.org/event/popcorn-pictures-family-matinee/
CATEGORIES:Youth Department
END:VEVENT
BEGIN:VEVENT
DTSTART;TZID=America/Chicago:20260622T170000
DTEND;TZID=America/Chicago:20260622T183000
DTSTAMP:20260425T073509
CREATED:20260305T233312Z
LAST-MODIFIED:20260421T160642Z
UID:10003262-1782147600-1782153000@cedarfallslibrary.org
SUMMARY:Minecraft Night
DESCRIPTION:Meeting Room. All ages!  Join us for a night of Minecraft with NirvanaOnline! Registration required if you need access to a Minecraft account and computer. If you have BOTH a Minecraft account and laptop computer you can bring in\, registration is not necessary.  \nNirvanaOnline is a Minecraft-based MMORPG created by Network Nirvana. Players and patrons connect to NirvanaOnline servers to access a massive shared-world experience that champions STEM-based learning and challenges players to expand their critical thinking skills with team-based content objectives. Players learn soft skills while adventuring around our variety of game worlds such as an underwater city\, an underground colony\, a dark carnival\, a flying steampunk metropolis\, a 256-player battle royale on the moon\, a Mayan temple city\, an African safari\, and more!  \nContact the Youth Staff for more information by emailing youth@cedarfallslibrary.org or by calling 319-859-3282. \nFunded by the Cedar Falls Community Foundation: The Robert and Shirley Berg Fund
URL:https://cedarfallslibrary.org/event/minecraft-night-19/
CATEGORIES:Teens,Youth Department
END:VEVENT
END:VCALENDAR