BEGIN:VCALENDAR
VERSION:2.0
PRODID:-//Cedar Falls Public Library - ECPv6.15.20//NONSGML v1.0//EN
CALSCALE:GREGORIAN
METHOD:PUBLISH
X-ORIGINAL-URL:https://cedarfallslibrary.org
X-WR-CALDESC:Events for Cedar Falls Public Library
REFRESH-INTERVAL;VALUE=DURATION:PT1H
X-Robots-Tag:noindex
X-PUBLISHED-TTL:PT1H
BEGIN:VTIMEZONE
TZID:America/Chicago
BEGIN:DAYLIGHT
TZOFFSETFROM:-0600
TZOFFSETTO:-0500
TZNAME:CDT
DTSTART:20250309T080000
END:DAYLIGHT
BEGIN:STANDARD
TZOFFSETFROM:-0500
TZOFFSETTO:-0600
TZNAME:CST
DTSTART:20251102T070000
END:STANDARD
BEGIN:DAYLIGHT
TZOFFSETFROM:-0600
TZOFFSETTO:-0500
TZNAME:CDT
DTSTART:20260308T080000
END:DAYLIGHT
BEGIN:STANDARD
TZOFFSETFROM:-0500
TZOFFSETTO:-0600
TZNAME:CST
DTSTART:20261101T070000
END:STANDARD
BEGIN:DAYLIGHT
TZOFFSETFROM:-0600
TZOFFSETTO:-0500
TZNAME:CDT
DTSTART:20270314T080000
END:DAYLIGHT
BEGIN:STANDARD
TZOFFSETFROM:-0500
TZOFFSETTO:-0600
TZNAME:CST
DTSTART:20271107T070000
END:STANDARD
END:VTIMEZONE
BEGIN:VEVENT
DTSTART;TZID=America/Chicago:20260618T103000
DTEND;TZID=America/Chicago:20260618T113000
DTSTAMP:20260419T132134
CREATED:20251208T211917Z
LAST-MODIFIED:20260419T181655Z
UID:10002998-1781778600-1781782200@cedarfallslibrary.org
SUMMARY:Stories A Grow Grow with Happy Faces Entertainment
DESCRIPTION:Meeting Room.  \nPlant a letter\, Grow a word\, Harvest a story\, Enjoy an adventure. \nBecome a farmer to new and unique stories.  Words\, words\, words everywhere!  We will take all those words and sprout new stories.  Using the audience's imagination and improvisational theater skills\, we will grow words into adventures.  Suggest a word\, volunteer as a performer or sit back and enjoy brand new stories\, grown before your eyes. \nFor Ages  5-12 \nYouth. 
URL:https://cedarfallslibrary.org/event/stories-a-grow-grow-with-happy-faces-entertainment/
CATEGORIES:Youth Department
END:VEVENT
END:VCALENDAR