BEGIN:VCALENDAR
VERSION:2.0
PRODID:-//Cedar Falls Public Library - ECPv6.15.20//NONSGML v1.0//EN
CALSCALE:GREGORIAN
METHOD:PUBLISH
X-ORIGINAL-URL:https://cedarfallslibrary.org
X-WR-CALDESC:Events for Cedar Falls Public Library
REFRESH-INTERVAL;VALUE=DURATION:PT1H
X-Robots-Tag:noindex
X-PUBLISHED-TTL:PT1H
BEGIN:VTIMEZONE
TZID:America/Chicago
BEGIN:DAYLIGHT
TZOFFSETFROM:-0600
TZOFFSETTO:-0500
TZNAME:CDT
DTSTART:20250309T080000
END:DAYLIGHT
BEGIN:STANDARD
TZOFFSETFROM:-0500
TZOFFSETTO:-0600
TZNAME:CST
DTSTART:20251102T070000
END:STANDARD
BEGIN:DAYLIGHT
TZOFFSETFROM:-0600
TZOFFSETTO:-0500
TZNAME:CDT
DTSTART:20260308T080000
END:DAYLIGHT
BEGIN:STANDARD
TZOFFSETFROM:-0500
TZOFFSETTO:-0600
TZNAME:CST
DTSTART:20261101T070000
END:STANDARD
BEGIN:DAYLIGHT
TZOFFSETFROM:-0600
TZOFFSETTO:-0500
TZNAME:CDT
DTSTART:20270314T080000
END:DAYLIGHT
BEGIN:STANDARD
TZOFFSETFROM:-0500
TZOFFSETTO:-0600
TZNAME:CST
DTSTART:20271107T070000
END:STANDARD
END:VTIMEZONE
BEGIN:VEVENT
DTSTART;TZID=America/Chicago:20260617T103000
DTEND;TZID=America/Chicago:20260617T111500
DTSTAMP:20260421T072751
CREATED:20260123T170311Z
LAST-MODIFIED:20260421T003201Z
UID:10003095-1781692200-1781694900@cedarfallslibrary.org
SUMMARY:Toddler Storytime
DESCRIPTION:Youth Department.  \nJoin us for Toddler Storytime as we read\, sing\, dance\, rhyme\, and get silly. Storytime is a great way to introduce your toddler to the joy of reading and to the preliteracy skills that will help them become future readers.  \nFor toddlers\, ages 2-3. Youth. \n Funded by the Friends of the Cedar Falls Public Library.
URL:https://cedarfallslibrary.org/event/toddler-storytime-20/
CATEGORIES:Youth Department
END:VEVENT
BEGIN:VEVENT
DTSTART;TZID=America/Chicago:20260617T150000
DTEND;TZID=America/Chicago:20260617T160000
DTSTAMP:20260421T072751
CREATED:20260128T224743Z
LAST-MODIFIED:20260421T003201Z
UID:10003147-1781708400-1781712000@cedarfallslibrary.org
SUMMARY:Tween Time
DESCRIPTION:Ages 9-12.  Youth Department (Storytime Corner)     \nThis is a social program just for tweens (for ages 9-12) that entertains\, enriches\, and empowers. Tweens are invited to drop in and check it out on the 2nd and 3rd Wednesdays of most months from 3:00-4:00 p.m. This program is held once a month during June and July and then returns to twice a month starting in September. Tween Time does not meet in May or August. \nJune activity: marker tie-dye (available while supplies last) \nNo registration required. Youth. Ages 9-12. Sponsored by the Friends of the Cedar Falls Public Library.
URL:https://cedarfallslibrary.org/event/tween-time-123/
CATEGORIES:Youth Department
END:VEVENT
END:VCALENDAR