BEGIN:VCALENDAR
VERSION:2.0
PRODID:-//Cedar Falls Public Library - ECPv6.15.20//NONSGML v1.0//EN
CALSCALE:GREGORIAN
METHOD:PUBLISH
X-WR-CALNAME:Cedar Falls Public Library
X-ORIGINAL-URL:https://cedarfallslibrary.org
X-WR-CALDESC:Events for Cedar Falls Public Library
REFRESH-INTERVAL;VALUE=DURATION:PT1H
X-Robots-Tag:noindex
X-PUBLISHED-TTL:PT1H
BEGIN:VTIMEZONE
TZID:America/Chicago
BEGIN:DAYLIGHT
TZOFFSETFROM:-0600
TZOFFSETTO:-0500
TZNAME:CDT
DTSTART:20250309T080000
END:DAYLIGHT
BEGIN:STANDARD
TZOFFSETFROM:-0500
TZOFFSETTO:-0600
TZNAME:CST
DTSTART:20251102T070000
END:STANDARD
BEGIN:DAYLIGHT
TZOFFSETFROM:-0600
TZOFFSETTO:-0500
TZNAME:CDT
DTSTART:20260308T080000
END:DAYLIGHT
BEGIN:STANDARD
TZOFFSETFROM:-0500
TZOFFSETTO:-0600
TZNAME:CST
DTSTART:20261101T070000
END:STANDARD
BEGIN:DAYLIGHT
TZOFFSETFROM:-0600
TZOFFSETTO:-0500
TZNAME:CDT
DTSTART:20270314T080000
END:DAYLIGHT
BEGIN:STANDARD
TZOFFSETFROM:-0500
TZOFFSETTO:-0600
TZNAME:CST
DTSTART:20271107T070000
END:STANDARD
END:VTIMEZONE
BEGIN:VEVENT
DTSTART;TZID=America/Chicago:20260516T135500
DTEND;TZID=America/Chicago:20260516T163500
DTSTAMP:20260419T133036
CREATED:20251210T013301Z
LAST-MODIFIED:20260419T181650Z
UID:10003000-1778939700-1778949300@cedarfallslibrary.org
SUMMARY:Popcorn & Pictures: A Family Matinee
DESCRIPTION:Youth\, all ages\, in the Meeting Room. \nJoin us for monthly movie screenings that are fun for the whole family! We'll provide the popcorn\, but feel free to bring your own snacks\, refreshments\, and maybe even a cozy blanket or two.  \nMay's movie pick: "Lilo & Stitch" (2025)Showtime: 2:00 pm.  Runtime: 1 hour and 48 minutesRating: PGAudience: Children and their grown-upsLocation: Meeting Room \nSponsored by the Friends of the Cedar Falls Public Library.
URL:https://cedarfallslibrary.org/event/popcorn-pictures-a-family-matinee-2/
CATEGORIES:Youth Department
END:VEVENT
END:VCALENDAR