BEGIN:VCALENDAR
VERSION:2.0
PRODID:-//Cedar Falls Public Library - ECPv6.15.20//NONSGML v1.0//EN
CALSCALE:GREGORIAN
METHOD:PUBLISH
X-ORIGINAL-URL:https://cedarfallslibrary.org
X-WR-CALDESC:Events for Cedar Falls Public Library
REFRESH-INTERVAL;VALUE=DURATION:PT1H
X-Robots-Tag:noindex
X-PUBLISHED-TTL:PT1H
BEGIN:VTIMEZONE
TZID:America/Chicago
BEGIN:DAYLIGHT
TZOFFSETFROM:-0600
TZOFFSETTO:-0500
TZNAME:CDT
DTSTART:20250309T080000
END:DAYLIGHT
BEGIN:STANDARD
TZOFFSETFROM:-0500
TZOFFSETTO:-0600
TZNAME:CST
DTSTART:20251102T070000
END:STANDARD
BEGIN:DAYLIGHT
TZOFFSETFROM:-0600
TZOFFSETTO:-0500
TZNAME:CDT
DTSTART:20260308T080000
END:DAYLIGHT
BEGIN:STANDARD
TZOFFSETFROM:-0500
TZOFFSETTO:-0600
TZNAME:CST
DTSTART:20261101T070000
END:STANDARD
BEGIN:DAYLIGHT
TZOFFSETFROM:-0600
TZOFFSETTO:-0500
TZNAME:CDT
DTSTART:20270314T080000
END:DAYLIGHT
BEGIN:STANDARD
TZOFFSETFROM:-0500
TZOFFSETTO:-0600
TZNAME:CST
DTSTART:20271107T070000
END:STANDARD
END:VTIMEZONE
BEGIN:VEVENT
DTSTART;TZID=America/Chicago:20260518T103000
DTEND;TZID=America/Chicago:20260518T113000
DTSTAMP:20260419T133711
CREATED:20260406T194659Z
LAST-MODIFIED:20260419T183133Z
UID:10003300-1779100200-1779103800@cedarfallslibrary.org
SUMMARY:Baby Playtime
DESCRIPTION:During the month of May\, bring your little ones to the library to enjoy Baby Playtime. The toy chest will be unlocked each Monday morning at 10:30 until 11:30. Through out this program\, little ones can learn to play together while their parents connect with other parents. Baby Storytime will resume in place of this program starting June 1st.
URL:https://cedarfallslibrary.org/event/baby-playtime-2/
END:VEVENT
BEGIN:VEVENT
DTSTART;TZID=America/Chicago:20260518T161500
DTEND;TZID=America/Chicago:20260518T171500
DTSTAMP:20260419T133711
CREATED:20251010T202806Z
LAST-MODIFIED:20260419T183133Z
UID:10002819-1779120900-1779124500@cedarfallslibrary.org
SUMMARY:Tween Book Club
DESCRIPTION:Youth Department (Storytime Corner) \nTweens (kids ages 9-12) are invited to join us for a monthly book club! We'll enjoy a group activity and a discussion on this month's book. This month's is Tween's Choice. Tweens are welcome to choose their own books this month. It could be anything from re-reading their all-time favorite title to branching out and trying a genre they don't normally read. Come prepared to discuss what you chose while we celebrate the end of the school year with some pizza! \nTo register and pick up a copy of the book\, please email the youth desk at youth@cedarfallslibrary.org or call the youth desk at 319-859-3282. Registration Required. \nYouth. Sponsored by the Friends of the Cedar Falls Public Library.
URL:https://cedarfallslibrary.org/event/tween-book-club-19/
CATEGORIES:Youth Department
END:VEVENT
BEGIN:VEVENT
DTSTART;TZID=America/Chicago:20260518T190000
DTEND;TZID=America/Chicago:20260518T200000
DTSTAMP:20260419T133711
CREATED:20260131T211740Z
LAST-MODIFIED:20260419T183133Z
UID:10003153-1779130800-1779134400@cedarfallslibrary.org
SUMMARY:Chess Club
DESCRIPTION:Would you care for a game of chess?  Join fellow players at the Cedar Falls Public Library's meeting room (2nd floor) to meet your next opponent.  The club meets regularly on the 3rd Monday of each month. \nThis gathering is open to all ages\, but a firm grasp of chess is expected from all players as there is no formal instruction. No registration is required. \nThe library's Safe Child Policy applies to all programs - children under 11 will need a responsible caregiver present and in the room with them at all times.
URL:https://cedarfallslibrary.org/event/chess-club-38/
CATEGORIES:Adult,Teens,Youth Department
END:VEVENT
END:VCALENDAR