BEGIN:VCALENDAR
VERSION:2.0
PRODID:-//Cedar Falls Public Library - ECPv6.15.20//NONSGML v1.0//EN
CALSCALE:GREGORIAN
METHOD:PUBLISH
X-WR-CALNAME:Cedar Falls Public Library
X-ORIGINAL-URL:https://cedarfallslibrary.org
X-WR-CALDESC:Events for Cedar Falls Public Library
REFRESH-INTERVAL;VALUE=DURATION:PT1H
X-Robots-Tag:noindex
X-PUBLISHED-TTL:PT1H
BEGIN:VTIMEZONE
TZID:America/Chicago
BEGIN:DAYLIGHT
TZOFFSETFROM:-0600
TZOFFSETTO:-0500
TZNAME:CDT
DTSTART:20250309T080000
END:DAYLIGHT
BEGIN:STANDARD
TZOFFSETFROM:-0500
TZOFFSETTO:-0600
TZNAME:CST
DTSTART:20251102T070000
END:STANDARD
BEGIN:DAYLIGHT
TZOFFSETFROM:-0600
TZOFFSETTO:-0500
TZNAME:CDT
DTSTART:20260308T080000
END:DAYLIGHT
BEGIN:STANDARD
TZOFFSETFROM:-0500
TZOFFSETTO:-0600
TZNAME:CST
DTSTART:20261101T070000
END:STANDARD
BEGIN:DAYLIGHT
TZOFFSETFROM:-0600
TZOFFSETTO:-0500
TZNAME:CDT
DTSTART:20270314T080000
END:DAYLIGHT
BEGIN:STANDARD
TZOFFSETFROM:-0500
TZOFFSETTO:-0600
TZNAME:CST
DTSTART:20271107T070000
END:STANDARD
END:VTIMEZONE
BEGIN:VEVENT
DTSTART;TZID=America/Chicago:20260423T000000
DTEND;TZID=America/Chicago:20260424T235959
DTSTAMP:20260421T130006
CREATED:20251204T160253Z
LAST-MODIFIED:20260421T003205Z
UID:10002994-1776902400-1777075199@cedarfallslibrary.org
SUMMARY:CVYR: School Sessions
DESCRIPTION:9:15 a.m.\, 10:45 a.m.\, and 1:30 p.m
URL:https://cedarfallslibrary.org/event/cvyr-school-sessions-2/
END:VEVENT
BEGIN:VEVENT
DTSTART;TZID=America/Chicago:20260423T093000
DTEND;TZID=America/Chicago:20260423T103000
DTSTAMP:20260421T130006
CREATED:20260205T230302Z
LAST-MODIFIED:20260421T161643Z
UID:10003226-1776936600-1776940200@cedarfallslibrary.org
SUMMARY:Tech Time Thursdays for Apple users!
DESCRIPTION:Got Tech Troubles? We’ve Got Answers! \nJoin our friendly group tech session in the meeting room and get hands-on help with your Apple device or any tech questions you’ve been wrestling with. Whether it’s a glitchy iPhone\, a confusing update\, or just something you’ve always wanted to learn—bring it in and let’s tackle it together! \nPrefer one-on-one support? No problem! Stop by the reference desk or call us at 319-268-5543 to schedule a personalized tech appointment. \nAll ages welcome.
URL:https://cedarfallslibrary.org/event/tech-time-thursdays-for-apple-users-4/
CATEGORIES:Adult
END:VEVENT
BEGIN:VEVENT
DTSTART;TZID=America/Chicago:20260423T143000
DTEND;TZID=America/Chicago:20260423T153000
DTSTAMP:20260421T130006
CREATED:20260205T230302Z
LAST-MODIFIED:20260421T003152Z
UID:10003227-1776954600-1776958200@cedarfallslibrary.org
SUMMARY:Tech Time Thursdays for Android and PC users!
DESCRIPTION:Got Tech Troubles? We’ve Got Answers! \nJoin our friendly group tech session in the meeting room and get hands-on help with your android device or any tech questions you’ve been wrestling with. Whether it’s a glitchy android phone\, a confusing update\, or just something you’ve always wanted to learn—bring it in and let’s tackle it together! \nPrefer one-on-one support? No problem! Stop by the reference desk or call us at 319-268-5543 to schedule a personalized tech appointment. \nAll ages welcome.
URL:https://cedarfallslibrary.org/event/tech-time-thursdays-for-android-and-pc-users-4/
END:VEVENT
BEGIN:VEVENT
DTSTART;TZID=America/Chicago:20260423T190000
DTEND;TZID=America/Chicago:20260423T200000
DTSTAMP:20260421T130006
CREATED:20260203T220226Z
LAST-MODIFIED:20260421T003205Z
UID:10003201-1776970800-1776974400@cedarfallslibrary.org
SUMMARY:Lit Lounge: Swing Dance Lesson
DESCRIPTION:Lit Lounge: A private\, adults-only event series focused on meaningful conversation\, hands-on workshops\, and social connection. Sessions will feature guided group activities\, time for relaxed networking in a respectful\, age-gated environment for adults to enjoy outside of the 9-5 workday schedule. \nApril Event: Swing Dancing! Follow along with trusted dance instructors as they guide you through the steps for swing dance.  \nThursday\, April 23\, 7:00 - 8:00 p.m.  at the Cedar Falls Community Center \nRegistration Required. Registration opens available 30 days before event.Sponsored by the CFPL Friends of the Library. \nRegister Here
URL:https://cedarfallslibrary.org/event/lit-lounge-swing-dance-lesson/
CATEGORIES:Adult
END:VEVENT
END:VCALENDAR